BEGIN:VCALENDAR
VERSION:2.0
PRODID:-//I Love Chickasha - ECPv6.15.20//NONSGML v1.0//EN
CALSCALE:GREGORIAN
METHOD:PUBLISH
X-ORIGINAL-URL:https://ilovechickasha.com
X-WR-CALDESC:Events for I Love Chickasha
REFRESH-INTERVAL;VALUE=DURATION:PT1H
X-Robots-Tag:noindex
X-PUBLISHED-TTL:PT1H
BEGIN:VTIMEZONE
TZID:UTC
BEGIN:STANDARD
TZOFFSETFROM:+0000
TZOFFSETTO:+0000
TZNAME:UTC
DTSTART:20240101T000000
END:STANDARD
END:VTIMEZONE
BEGIN:VEVENT
DTSTART;TZID=UTC:20251025T150000
DTEND;TZID=UTC:20251025T180000
DTSTAMP:20260422T074204
CREATED:20251013T224028Z
LAST-MODIFIED:20251013T224028Z
UID:2165-1761404400-1761415200@ilovechickasha.com
SUMMARY:Neewollah Fall Festival 2025 | Chickasha’s Spooktacular Halloween Celebration
DESCRIPTION:Autumn in Chickasha comes alive with the return of the Neewollah Fall Festival on Saturday\, October 25\, 2025\, from 3:00 PM to 6:00 PM. Hosted by the Chickasha Chamber of Commerce and local partners\, this annual downtown celebration turns the 100-block of Chickasha Avenue into a Halloween wonderland for families\, friends\, and visitors of all ages. \nExpect a jam-packed afternoon of trick-or-treating\, costume contests\, games\, bounce houses\, and local vendor booths\, all decked out in festive fall colors. The streets will buzz with excitement as kids parade in their favorite costumes\, local businesses hand out treats\, and live entertainment fills the air. Whether you’re looking for safe family fun or want to soak in the small-town charm\, Neewollah is the place to be. \nThis festival isn’t just about candy — it’s about community. Year after year\, Neewollah brings Chickasha together to celebrate the season in style. So grab your costumes\, bring your family\, and head downtown for an evening of laughter\, lights\, and local spirit at Chickasha’s favorite fall event. \nFor more details of the event and vending space\, visit the Neewollah Fall Festival Facebook page.
URL:https://ilovechickasha.com/event/chickasha-neewollah-fall-festival-2025/
LOCATION:Chickasha Avenue
ATTACH;FMTTYPE=image/webp:https://ilovechickasha.com/wp-content/uploads/2025/10/Neewollah-Fall-Festival-2025.webp
END:VEVENT
END:VCALENDAR