BEGIN:VCALENDAR
VERSION:2.0
PRODID:-//I Love Chickasha - ECPv6.15.20//NONSGML v1.0//EN
CALSCALE:GREGORIAN
METHOD:PUBLISH
X-WR-CALNAME:I Love Chickasha
X-ORIGINAL-URL:https://ilovechickasha.com
X-WR-CALDESC:Events for I Love Chickasha
REFRESH-INTERVAL;VALUE=DURATION:PT1H
X-Robots-Tag:noindex
X-PUBLISHED-TTL:PT1H
BEGIN:VTIMEZONE
TZID:UTC
BEGIN:STANDARD
TZOFFSETFROM:+0000
TZOFFSETTO:+0000
TZNAME:UTC
DTSTART:20240101T000000
END:STANDARD
END:VTIMEZONE
BEGIN:VEVENT
DTSTART;TZID=UTC:20251107T180000
DTEND;TZID=UTC:20251226T235900
DTSTAMP:20260422T060333
CREATED:20251106T165643Z
LAST-MODIFIED:20251107T140237Z
UID:2235-1762538400-1766793540@ilovechickasha.com
SUMMARY:Fragilé — Documentary Premiere Weekend
DESCRIPTION:Get ready for a weekend of local film\, laughter\, and storytelling as Chickasha proudly hosts the world premiere of Fragilé\, a five-year-in-the-making documentary by hometown director Reagan Elkins of Intellego Media. \nThis captivating film explores the rise of Chickasha’s now-famous 50-foot leg lamp — a bold tribute to A Christmas Story that became a national tourist sensation and a symbol of small-town pride. Fragilé takes you behind the scenes to reveal how this one-of-a-kind landmark was built\, the community passion that fueled it\, and the legal and civic debates that followed. \nFragilé Movie Highlights;\n\nExclusive premiere screenings all weekend\nMeet-and-greet with Chickasha native Reagan Elkins\nBehind-the-scenes look at the making of the leg lamp\nCommunity celebration of creativity and hometown pride\n\nWeekend Screenings: Friday nights at Heritage Park Theatre\, Nov 7 – Dec 26Meet the Filmmaker: Special Q&A sessions with Reagan ElkinsStreaming Release: November 7 on Vimeo On Demand & PlexPre-Order Link: fragiledocumentary.vhx.tv \nLocal residents can pre-order the film online now to stream it as soon as it drops — perfect for those who can’t attend in person. \n\nWhy You Should Attend\nFragilé is more than a movie — it’s a story about Chickasha itself.From laughter and lawsuits to love for a hometown landmark\, this documentary celebrates the spirit that keeps Chickasha glowing year after year.
URL:https://ilovechickasha.com/event/fragile-leg-lamp-movie-documentary-2025/
LOCATION:Heritage Park Theatre\, Chickasha\, Oklahoma\, Chickasha\, United States
ATTACH;FMTTYPE=image/webp:https://ilovechickasha.com/wp-content/uploads/2025/11/Fragile-Leg-Lamp-Movie-2025.webp
END:VEVENT
END:VCALENDAR