BEGIN:VCALENDAR
VERSION:2.0
PRODID:-//I Love Chickasha - ECPv6.15.20//NONSGML v1.0//EN
CALSCALE:GREGORIAN
METHOD:PUBLISH
X-ORIGINAL-URL:https://ilovechickasha.com
X-WR-CALDESC:Events for I Love Chickasha
REFRESH-INTERVAL;VALUE=DURATION:PT1H
X-Robots-Tag:noindex
X-PUBLISHED-TTL:PT1H
BEGIN:VTIMEZONE
TZID:UTC
BEGIN:STANDARD
TZOFFSETFROM:+0000
TZOFFSETTO:+0000
TZNAME:UTC
DTSTART:20240101T000000
END:STANDARD
END:VTIMEZONE
BEGIN:VEVENT
DTSTART;VALUE=DATE:20251003
DTEND;VALUE=DATE:20251004
DTSTAMP:20260422T060700
CREATED:20250927T000145Z
LAST-MODIFIED:20250927T000145Z
UID:2151-1759449600-1759535999@ilovechickasha.com
SUMMARY:Junior Social Workers Spaghetti Day in Chickasha | Apply for Proceeds Funding
DESCRIPTION:Mark your calendars for Junior Social Workers Spaghetti Day in Chickasha! This delicious community event brings people together over plates of spaghetti while raising funds to support local organizations\, nonprofits\, and community groups. If your organization could use extra funding\, this is your chance to get involved. \nDuring Spaghetti Day\, proceeds will go back into the Chickasha community. The Junior Social Workers (JSW) are now accepting proceeds applications from local organizations that want to benefit from this fundraiser. Simply DM or email JSW to apply and get your group added to the list. \nEligibility is straightforward: your organisation must be based in Chickasha. Don’t miss this opportunity to enjoy a hearty meal\, strengthen community ties\, and secure funding for your cause. Join us for Spaghetti Day — where every bite helps build a stronger Chickasha! \n\nEmail JSW TODAY!
URL:https://ilovechickasha.com/event/junior-social-workers-spaghetti-day-2025/
LOCATION:Junior Social Workers\, OK\, United States
ATTACH;FMTTYPE=image/webp:https://ilovechickasha.com/wp-content/uploads/2025/09/Junior-Social-Workers-Spaghetti-Day-in-Chickasha.webp
END:VEVENT
BEGIN:VEVENT
DTSTART;VALUE=DATE:20251003
DTEND;VALUE=DATE:20251005
DTSTAMP:20260422T060700
CREATED:20250926T230951Z
LAST-MODIFIED:20250926T232613Z
UID:2134-1759449600-1759622399@ilovechickasha.com
SUMMARY:TwisterFest 2025 at Muscle Car Ranch | Chickasha’s Biggest October Festival
DESCRIPTION:Chickasha is about to get twisted! TwisterFest 2025 storms into town October 3–4 at the iconic Muscle Car Ranch\, bringing two action-packed days of music\, cars\, and community fun. This annual event has grown into one of Oklahoma’s must-see fall festivals\, drawing visitors from across the region to enjoy live entertainment\, classic rides\, and the vibrant culture that makes Chickasha special. \nThe festival’s lineup is packed with excitement — from the roar of classic trucks and muscle cars to the pulse of live bands rocking the stage. Fans can also look forward to high-energy pro wrestling matches\, local vendors\, and delicious food to keep the fun rolling all weekend long. Whether you’re a music lover\, a car enthusiast\, or just looking for the perfect October outing\, TwisterFest has something for everyone. \nMore than just an event\, TwisterFest is a full-on experience. It’s a chance to reconnect with friends\, discover new favorites\, and make unforgettable memories under the Oklahoma sky. Don’t miss your chance to be part of one of Chickasha’s biggest October celebrations — grab your tickets now and get ready to “Come Get Twisted” at Muscle Car Ranch! GET YOUR TICKETS HERE!
URL:https://ilovechickasha.com/event/twisterfest-2025-at-muscle-car-ranch/
ATTACH;FMTTYPE=image/webp:https://ilovechickasha.com/wp-content/uploads/2025/09/TwisterFest-2025-at-Muscle-Car-Ranch.webp
END:VEVENT
BEGIN:VEVENT
DTSTART;VALUE=DATE:20251016
DTEND;VALUE=DATE:20251019
DTSTAMP:20260422T060700
CREATED:20251014T112128Z
LAST-MODIFIED:20251014T112128Z
UID:2187-1760572800-1760831999@ilovechickasha.com
SUMMARY:Chickasha Fall Auto Swap Meet 2025- Classic Cars in Oklahoma
DESCRIPTION:Car enthusiasts\, mark your calendars! The legendary Chickasha Fall Auto Swap Meet returns October 16–18\, 2025\, just east of the Grady County Fairgrounds. Spanning 40 acres\, this massive automotive marketplace brings together over 1\,500 vendors and thousands of visitors from across the country for three days of pure car culture. \nFrom rare vintage car parts and memorabilia to restored classics and custom builds\, you’ll find treasures around every corner. It’s the perfect spot for collectors\, restorers\, and enthusiasts to connect\, trade\, and talk shop. Many attendees say it’s one of the best places in the Midwest to score hard-to-find parts or even your next project car. \nMore than just a swap meet\, this event is a celebration of automotive passion and history in the heart of Chickasha. Bring your family\, your friends\, and your love for engines — you never know what gem you’ll find at this fall tradition!
URL:https://ilovechickasha.com/event/chickasha-fall-auto-swap-meet-2025/
LOCATION:Grady County Fairgrounds\, OK\, United States
ATTACH;FMTTYPE=image/webp:https://ilovechickasha.com/wp-content/uploads/2025/10/Chickasha-Fall-Auto-Swap-Meet-2025.webp
END:VEVENT
BEGIN:VEVENT
DTSTART;TZID=UTC:20251025T150000
DTEND;TZID=UTC:20251025T180000
DTSTAMP:20260422T060700
CREATED:20251013T224028Z
LAST-MODIFIED:20251013T224028Z
UID:2165-1761404400-1761415200@ilovechickasha.com
SUMMARY:Neewollah Fall Festival 2025 | Chickasha’s Spooktacular Halloween Celebration
DESCRIPTION:Autumn in Chickasha comes alive with the return of the Neewollah Fall Festival on Saturday\, October 25\, 2025\, from 3:00 PM to 6:00 PM. Hosted by the Chickasha Chamber of Commerce and local partners\, this annual downtown celebration turns the 100-block of Chickasha Avenue into a Halloween wonderland for families\, friends\, and visitors of all ages. \nExpect a jam-packed afternoon of trick-or-treating\, costume contests\, games\, bounce houses\, and local vendor booths\, all decked out in festive fall colors. The streets will buzz with excitement as kids parade in their favorite costumes\, local businesses hand out treats\, and live entertainment fills the air. Whether you’re looking for safe family fun or want to soak in the small-town charm\, Neewollah is the place to be. \nThis festival isn’t just about candy — it’s about community. Year after year\, Neewollah brings Chickasha together to celebrate the season in style. So grab your costumes\, bring your family\, and head downtown for an evening of laughter\, lights\, and local spirit at Chickasha’s favorite fall event. \nFor more details of the event and vending space\, visit the Neewollah Fall Festival Facebook page.
URL:https://ilovechickasha.com/event/chickasha-neewollah-fall-festival-2025/
LOCATION:Chickasha Avenue
ATTACH;FMTTYPE=image/webp:https://ilovechickasha.com/wp-content/uploads/2025/10/Neewollah-Fall-Festival-2025.webp
END:VEVENT
END:VCALENDAR